BEGIN:VCALENDAR
VERSION:2.0
PRODID:-//Motorcycles.News - Motorrad Magazin - ECPv6.15.20//NONSGML v1.0//EN
CALSCALE:GREGORIAN
METHOD:PUBLISH
X-ORIGINAL-URL:https://www.motorcycles.news
X-WR-CALDESC:Veranstaltungen für Motorcycles.News - Motorrad Magazin
REFRESH-INTERVAL;VALUE=DURATION:PT1H
X-Robots-Tag:noindex
X-PUBLISHED-TTL:PT1H
BEGIN:VTIMEZONE
TZID:Europe/London
BEGIN:DAYLIGHT
TZOFFSETFROM:+0000
TZOFFSETTO:+0100
TZNAME:BST
DTSTART:20250330T010000
END:DAYLIGHT
BEGIN:STANDARD
TZOFFSETFROM:+0100
TZOFFSETTO:+0000
TZNAME:GMT
DTSTART:20251026T010000
END:STANDARD
BEGIN:DAYLIGHT
TZOFFSETFROM:+0000
TZOFFSETTO:+0100
TZNAME:BST
DTSTART:20260329T010000
END:DAYLIGHT
BEGIN:STANDARD
TZOFFSETFROM:+0100
TZOFFSETTO:+0000
TZNAME:GMT
DTSTART:20261025T010000
END:STANDARD
BEGIN:DAYLIGHT
TZOFFSETFROM:+0000
TZOFFSETTO:+0100
TZNAME:BST
DTSTART:20270328T010000
END:DAYLIGHT
BEGIN:STANDARD
TZOFFSETFROM:+0100
TZOFFSETTO:+0000
TZNAME:GMT
DTSTART:20271031T010000
END:STANDARD
END:VTIMEZONE
BEGIN:VEVENT
DTSTART;TZID=Europe/London:20260807T090000
DTEND;TZID=Europe/London:20260809T180000
DTSTAMP:20260420T161754
CREATED:20260409T141436Z
LAST-MODIFIED:20260409T141436Z
UID:190127-1786093200-1786298400@www.motorcycles.news
SUMMARY:MotoGP – Großbritannien Grand Prix – 2026
DESCRIPTION:MotoGP kehrt im Hochsommer nach Silverstone zurück\nVom 7. bis 9. August 2026 gastiert die MotoGP-Weltmeisterschaft zur 13. Saisonrunde auf dem legendären Silverstone Circuit in Northamptonshire. Nach dem Ausflug in den Mai bei der Ausgabe 2025 kehrt der British Grand Prix zu seinem angestammten Sommertermin im August zurück – eine Entscheidung\, die bei Fans und Teams gleichermaßen begrüßt wird. \nSilverstone ist die geistige Heimat des britischen Motorsports. Die auf einem ehemaligen Militärflugplatz aus dem Zweiten Weltkrieg erbaute Anlage wurde 1948 erstmals für Rennen genutzt und beherbergt seit 2010 ununterbrochen den Motorrad-Grand-Prix von Großbritannien. Zuvor wurde die britische WM-Runde von 1977 bis 1986 hier ausgetragen\, bevor Donington Park von 1987 bis 2009 übernahm. \nStrecke und Statistik\nDer Grand-Prix-Kurs von Silverstone misst 5\,9 Kilometer und zählt damit zu den längsten Strecken im MotoGP-Kalender. Die 18 Kurven – darunter legendäre Passagen wie Maggotts\, Becketts und die Hangar Straight – verlangen den Fahrern höchste Präzision bei Geschwindigkeiten von bis zu 341 km/h ab. Der aktuelle Qualifikationsrekord steht bei 1:57\,309 Minuten\, aufgestellt von Aleix Espargaró im Jahr 2024. Den schnellsten Rennrundenlap hält Alex Rins mit 1:59\,346 aus dem Jahr 2022. \nBei der Ausgabe 2024 dominierte Enea Bastianini das gesamte Wochenende und gewann sowohl das Sprint- als auch das Hauptrennen – eine beeindruckende Machtdemonstration des Ducati-Piloten\, der Jorge Martín auf den letzten Runden abfing. \nSilverstone als Reiseziel\nDie Rennstrecke liegt rund 100 Kilometer nordwestlich von London an der Grenze der Grafschaften Northamptonshire und Buckinghamshire. Die Region bietet mit den Cotswolds\, dem historischen Städtchen Towcester und der Universitätsstadt Oxford attraktive Ausflugsziele rund um das Rennwochenende. Die Anreise ist per Auto über die M1 und M40\, per Bahn bis Milton Keynes Central oder per Shuttle-Service möglich. \n\nVorläufiger Zeitplan (Ortszeit BST)\nDer detaillierte Zeitplan wird von der Dorna wenige Wochen vor dem Event veröffentlicht. Die folgenden Zeiten basieren auf dem üblichen Ablaufschema für europäische Runden und können sich noch ändern. \nFreitag\, 7. August\n\n10:45–11:30 Uhr – MotoGP™ Freies Training 1\n11:45–12:25 Uhr – Moto2™ Freies Training 1\n12:40–13:15 Uhr – Moto3™ Freies Training 1\n15:00–16:00 Uhr – MotoGP™ Training\n16:15–16:55 Uhr – Moto2™ Training\n17:10–17:45 Uhr – Moto3™ Training\n\nSamstag\, 8. August\n\n10:10–10:40 Uhr – MotoGP™ Freies Training 2\n10:50–11:05 Uhr – MotoGP™ Qualifying 1\n11:15–11:30 Uhr – MotoGP™ Qualifying 2\n11:50–12:05 Uhr – Moto2™ Qualifying 1\n12:15–12:30 Uhr – Moto2™ Qualifying 2\n12:50–13:05 Uhr – Moto3™ Qualifying 1\n13:15–13:30 Uhr – Moto3™ Qualifying 2\n15:00 Uhr – MotoGP™ Tissot Sprint (10 Runden)\n\nSonntag\, 9. August\n\n09:40–09:50 Uhr – MotoGP™ Warm-up\n11:00 Uhr – Moto3™ Rennen (17 Runden)\n12:15 Uhr – Moto2™ Rennen (18 Runden)\n14:00 Uhr – MotoGP™ Grand Prix (20 Runden)\n\n\nEckdaten zur Veranstaltung\nEvent: Monster Energy British Grand Prix – MotoGP™ 2026\nDatum: 07.–09. August 2026\nStrecke: Silverstone Circuit\, Towcester\, Großbritannien\nStreckenlänge: 5\,900 km\nRunden MotoGP™: 20 (Sprint: 10)\nZeitzone: BST (UTC+1)\nWebsite: silverstone.co.uk
URL:https://www.motorcycles.news/event/motogp-grossbritannien-grand-prix-2026/
LOCATION:Silverstone\, Towcester NN12 8TN\, United Kingdom
CATEGORIES:MotoGP,Motorsport,Rennen
ATTACH;FMTTYPE=image/png:https://www.motorcycles.news/wp-content/uploads/2026/04/Top20Web20banner204400x117620copy208-E-scaled.png
END:VEVENT
END:VCALENDAR